BEGIN:VCALENDAR
PRODID:NingEventWidget-v1
VERSION:2.0
METHOD:PUBLISH
BEGIN:VEVENT
UID:5170231:Event:573832
DTSTAMP:20260422T225645Z
SUMMARY:ओ.बी.ओ. लखनऊ चैप्टर की मा
 िक गोष्ठी
DESCRIPTION:दिनांक 14 सितम्बर  देश 
 ें हिंदी दिवस के रूप में मन
 ाया जाता है. इसी अवसर पर आगा
 मी रविवार 14 सितम्बर को ओ.बी.
 .का लखनऊ चैप्टर अपनी मासिक
  गोष्ठी कार्यक्रम के अंतर्
 गत एक परिचर्चा और काव्यपाठ
  का आयोजन कर रहा है. परिचर्च
 ा का विषय है \"हिंदी भाषा का 
 ैश्विक परिदृश्य\". इसमें आ
 ंत्रित वक्तागण अपने विचार
  प्रस्तुत करेंगे. आयोजन के 
 ूसरे सत्र में आमंत्रित कव
 गण अपनी रचनाओं का पाठ करें
 गे. \n \nउक्त आयोजन में कतिपय 
 आमंत्रित सदस्यों के अतिरि
 ्त ओ.बी.ओ.लखनऊ चैप्टर के सभ
  नियमित एवं पंजीकृत सदस्य 
 की गरिमामय उपस्थिति अपेक्
 षित है.\n\nFor more information visit http://openbooksonline
 .com/events/5170231:Event:573832
DTSTART:20140914T093000Z
DTEND:20140914T120000Z
CATEGORIES:"मासिक", "गोष्ठी"
LOCATION:37, रोहतास एंक्लेव
WEBSITE:
URL:
CONTACT:9935394949
ORGANIZER:ओ.बी.ओ.लखनऊ चैप्टर
ATTACH;FMTTYPE="image/jpeg":
ATTENDEE;ROLE=REQ-PARTICIPANT;PARTSTAT=ACCEPTED;RSVP=TRUE;CN="के
 ल प्रसाद 'सत्यम'":http://openbooksonline.com/
 profile/kewalprasad
ATTENDEE;ROLE=REQ-PARTICIPANT;PARTSTAT=ACCEPTED;RSVP=TRUE;CN="sharadin
 du mukerji":http://openbooksonline.com/profile/sharadindumukerji
END:VEVENT
END:VCALENDAR
