BEGIN:VCALENDAR
PRODID:NingEventWidget-v1
VERSION:2.0
METHOD:PUBLISH
BEGIN:VEVENT
UID:5170231:Event:583157
DTSTAMP:20260422T212650Z
SUMMARY:ओ.बी.ओ.लखनऊ चैप्टर - मासि
  गोष्ठी
DESCRIPTION:महाप्राण कवि सूर्यका
 त त्रिपाठी 'निराला' की पुण्
 यतिथि 15 अक्टूबर को थी. उन्ह
 ं स्मरण करते हुए ओ.बी.ओ. लखन
  चैप्टर की मासिक गोष्ठी रव
 िवार दिनांक 26 अक्टूबर 2014 को 
 योजित की गयी है. कार्यक्रम
  इस प्रकार है:\n\nपहले सत्र मे
 ं 'निराला' को लेकर परिचर्चा.
   उनके काव्य, उनके जीवन अथव
  उनके व्यक्तित्व से सम्बं
 ित किसी भी विषय पर सदस्यगण 
 अपना वक्तव्य रख सकते हैं.\n\n
 दूसरे सत्र में सदस्यों तथ
  आमंत्रित कवियों द्वारा क
 व्य-पाठ. \n\nओ.बी.ओ. लखनऊ चैप्
 र के सभी नियमित सदस्य, ओ.बी.
 . प्रबंधन टीम तथा कार्यकार
 िणी सदस्यगण की उपस्थिति वि
 नम्र अपेक्षित है.\n\nFor more information 
 visit http://openbooksonline.com/events/5170231:Event:583157
DTSTART:20141026T083000Z
DTEND:20141026T113000Z
CATEGORIES:"मासिक", "गोष्ठी"
LOCATION:37, रोहतास एंक्लेव,नीलगि
 ी चौराहे के पास
WEBSITE:
URL:
CONTACT:9935394949
ORGANIZER:संयोजक, ओ.बी.ओ.लखनऊ चैप्
 टर
ATTACH;FMTTYPE="image/jpeg":
ATTENDEE;ROLE=REQ-PARTICIPANT;PARTSTAT=ACCEPTED;RSVP=TRUE;CN="Pawan Ku
 mar":http://openbooksonline.com/profile/PawanKumar
ATTENDEE;ROLE=REQ-PARTICIPANT;PARTSTAT=ACCEPTED;RSVP=TRUE;CN="sharadin
 du mukerji":http://openbooksonline.com/profile/sharadindumukerji
END:VEVENT
END:VCALENDAR
