BEGIN:VCALENDAR
PRODID:NingEventWidget-v1
VERSION:2.0
METHOD:PUBLISH
BEGIN:VEVENT
UID:5170231:Event:587097
DTSTAMP:20260422T194630Z
SUMMARY:ओ.बी.ओ. लखनऊ चैप्टर की मा
 िक गोष्ठी
DESCRIPTION:ओ.बी.ओ. लखनऊ चैप्टर की म
 ासिक गोष्ठियाँ मुख्यत: काव
 ्य-पाठ के लिए जानी जाती हैं.
  समय के साथ-साथ इन गोष्ठियो
  में सामयिक विषय पर साहित्
 यिक परिचर्चा को भी स्थान म
 ला है. नवम्बर 2014 से हमारे इन 
 आयोजनों को एक नया आयाम देन
  का प्रयास है. साहित्य, हमा
 े चारों ओर की घटनाओं को भाष
 ा के माध्यम से कलात्मक प्र
 ्तुति देने का ही दूसरा नाम 
 है और ऐसी घटनाएँ हमारे जीव
  से ओतप्रोत होकर जुड़ी रहती 
 हैं. यह बात अलग है कि इतिहास
 , विज्ञान, खेलकूद, संगीत आदि
  कोई भी क्षेत्र हो, हम प्राय
 : ऐसी बहुत सी घटनाओं को अनदे
 खा कर जाते हैं जो हमारे इर्
 -गिर्द घट रही हैं क्योंकि 
 ाहित्यकार की दृष्टि अनाया
 स ही बहुत दूर के दृश्य में न
 िबद्ध हो जाती है. तब आवश्यक
 ता होती है एक इतिहासकार की
 , वैज्ञानिक की, क्रीड़ाविद अ
 वा संगीत विशेषज्ञ की जो हम
 ें हमारे नज़दीक के इन आश्चर
 यों से परिचय करा दे और हमार
 े साहित्य-कर्म के भण्डार क
  विस्तार प्रदान करे. इसी उद
 ्देश्य से रविवार 23 नवम्बर 201
 4 के दिन आयोजित होने जा रही 
 ोष्ठी में सुपरिचित भूवैज्
 ञानिक, लेखक, पत्रकार श्री व
 जय कुमार जोशी हमें अवध क्ष
 ेत्र – विशेष रूप से लखनऊ के 
 इतिहास के एक उल्लेखनीय दौर
  (1747 – 1816) से परिचित कराएँगे.\nआ
 प सभी इस आयोजन में सादर आमं
 ्रित हैं.\nकार्यक्रम : पहला 
 सत्र (अपराह्न 2 बजे से) : चर्च
 ा – विषय “गुजरे ज़माने की चं
  बातें”\n                       
           वक्ता – श्री विजय क
 मार जोशी\n         दूसरा सत्र
  (अपराह्न 3-15 बजे से) : आमंत्रि
 त कवियों द्वारा काव्य पाठ\n\
 nFor more information visit http://openbooksonline.com/events/5170231:
 Event:587097
DTSTART:20141123T083000Z
DTEND:20141123T113000Z
CATEGORIES:"गोष्ठी"
LOCATION:37, रोहतास एंक्लेव (नीलगि
 री चौराहे के पास)
WEBSITE:
URL:
CONTACT:9935394949
ORGANIZER:ओ.बी.ओ.लखनऊ चैप्टर
ATTACH;FMTTYPE="image/jpeg":
ATTENDEE;ROLE=REQ-PARTICIPANT;PARTSTAT=ACCEPTED;RSVP=TRUE;CN="के
 ल प्रसाद 'सत्यम'":http://openbooksonline.com/
 profile/kewalprasad
ATTENDEE;ROLE=REQ-PARTICIPANT;PARTSTAT=ACCEPTED;RSVP=TRUE;CN="डॉ 
 ोपाल नारायन श्रीवास्तव":http
 ://openbooksonline.com/profile/GOPALNARAINSRIVASTAVA
ATTENDEE;ROLE=REQ-PARTICIPANT;PARTSTAT=ACCEPTED;RSVP=TRUE;CN="sharadin
 du mukerji":http://openbooksonline.com/profile/sharadindumukerji
END:VEVENT
END:VCALENDAR
