BEGIN:VCALENDAR
PRODID:NingEventWidget-v1
VERSION:2.0
METHOD:PUBLISH
BEGIN:VEVENT
UID:5170231:Event:594648
DTSTAMP:20260422T180312Z
SUMMARY:ओ.बी.ओ. लखनऊ चैप्टर - मासि
 क गोष्ठी
DESCRIPTION:नवम्बर 2014 से ओ.बी.ओ. लखन
  चैप्टर की मासिक गोष्ठी को 
 नया कलेवर देने का प्रयास ह
 आ है. इसी क्रम में दिसम्बर 2
 014 की गोष्ठी में हम सब काव्य-
 पाठ व साहित्य आलोचना के सा
  ही साथ अतिरिक्त जिज्ञासा 
 े रूप में कुमेरु प्रदेश से
  रूबरू होंगे. आप सबकी सक्रि
  उपस्थिति प्रार्थनीय है.\n
 ार्यक्रम : पहला सत्र दोपहर 
 1.30 बजे से  \"अंटार्कटिका और भ
 ारत - कुछ जानी कुछ अनजानी बा
 तें\"   वक्ता शरदिंदु मुकर्
 ी\n             दूसरा सत्र दोप
 हर 2.30 बजे से - काव्य-पाठ/गद्य-
 पाठ/साहित्य आलोचना \n        
      अंत में - वार्षिक कार्य
 ्रम की प्रस्तुति से सम्बं
 ित अनौपचारिक बातचीत\n \n\nFor more
  information visit http://openbooksonline.com/events/5170231:Event:594
 648
DTSTART:20141221T080000Z
DTEND:20141221T114500Z
CATEGORIES:"गोष्ठी"
LOCATION:37, रोहतास एंक्लेव (नीलगि
 री चौराहा के पास)
WEBSITE:
URL:
CONTACT:9935394949
ORGANIZER:ओ.बी.ओ. लखनऊ चैप्टरi
ATTACH;FMTTYPE="image/jpeg":
ATTENDEE;ROLE=REQ-PARTICIPANT;PARTSTAT=ACCEPTED;RSVP=TRUE;CN="sharadin
 du mukerji":http://openbooksonline.com/profile/sharadindumukerji
END:VEVENT
END:VCALENDAR
