BEGIN:VCALENDAR
PRODID:NingEventWidget-v1
VERSION:2.0
METHOD:PUBLISH
BEGIN:VEVENT
UID:5170231:Event:862813
DTSTAMP:20260424T135303Z
SUMMARY:ओबीओ लखनऊ चैप्टर की मास
 क गोष्ठी
DESCRIPTION:ओबीओ लखनऊ चैप्टर की मा
 सिक गोष्ठी शनिवार दिनांक 24.
 06.2017 को डॉ गोपाल नारायण श्री
 ास्तव के सौजन्य से आयोजित 
 की जाएगी. आप सभी सुधीजनो से 
 निवेदन है कि इस नियमित साह
 त्यिक समागम को अपनी सक्रि
  उपस्थिति से गरिमा प्रदान 
 रें.\nसादर,\nशरदिंदु मुकर्ज
 \nसंयोजक\n\nFor more information visit http://openbookso
 nline.com/events/5170231:Event:862813
DTSTART:20170624T103000Z
DTEND:20170624T133000Z
CATEGORIES:"मासिक", "साहित्यिक", "गो
 ्ठी"
LOCATION:37, रोहतास एंक्लेव
WEBSITE:
URL:
CONTACT:9935394949
ORGANIZER:ओबीओ लखनऊ चैप्टर
ATTACH;FMTTYPE="image/jpeg":
ATTENDEE;ROLE=REQ-PARTICIPANT;PARTSTAT=ACCEPTED;RSVP=TRUE;CN="sharadin
 du mukerji":http://openbooksonline.com/profile/sharadindumukerji
END:VEVENT
END:VCALENDAR
