BEGIN:VCALENDAR
PRODID:NingEventWidget-v1
VERSION:2.0
METHOD:PUBLISH
BEGIN:VEVENT
UID:5170231:Event:997845
DTSTAMP:20260422T011009Z
SUMMARY:ओबीओ लखनऊ चैप्टर , लखनऊ
DESCRIPTION:डॉ  अशोक शर्मा के प्रक
 शनाधीन उपन्यास  'शूर्पपनख
 ा ' पर लेखकीय वक्तव्य  एवं क
 व्य गोष्ठी \n\nFor more information visit http://
 openbooksonline.com/events/5170231:Event:997845
DTSTART:20191222T093000Z
DTEND:20191222T133000Z
CATEGORIES:"ओबीओ", लखनऊ, "चैप्टर", "की
 ", "मासिक", "साहित्य", "संध्या", "
 माह", "दिसम्बर", 2019
LOCATION:37, रोहतास एन्क्लेव, फ़ैजा
 बाद रोड, लखनऊ I .
WEBSITE:
URL:
CONTACT:9795518586
ORGANIZER;CN="डॉ गोपाल नारायन श्री
 ास्तव":http://openbooksonline.com/profile/GOPALNARAINSRIVAS
 TAVA
ATTACH;FMTTYPE="image/jpeg":
ATTENDEE;ROLE=REQ-PARTICIPANT;PARTSTAT=ACCEPTED;RSVP=TRUE;CN="डॉ 
 ोपाल नारायन श्रीवास्तव":http
 ://openbooksonline.com/profile/GOPALNARAINSRIVASTAVA
END:VEVENT
END:VCALENDAR
