BEGIN:VCALENDAR
PRODID:NingEventWidget-v1
VERSION:2.0
METHOD:PUBLISH
BEGIN:VEVENT
UID:5170231:Event:1000962
DTSTAMP:20260420T064957Z
SUMMARY:OBO LUCKNOW-CHAPTER
DESCRIPTION:MONTHLY ACTIVITY \n1- DISCUSSION ON TWO POEMS OF POETESS 
 NAMITA SUNDAR \n2-POEM RECITING \n\nFor more information visit http:
 //openbooksonline.com/events/obo-lucknow-chapter
DTSTART:20200223T103000Z
DTEND:20200223T133000Z
CATEGORIES:sahitya, sandhya
LOCATION:D 1/34, SECTOR-F, JANKIPURAM NEAR ENGG.. COLLEGE
WEBSITE:
URL:
CONTACT:9795518586
ORGANIZER:SRI MRIGANK SRIVASTAV A
ATTACH;FMTTYPE="image/jpeg":
ATTENDEE;ROLE=REQ-PARTICIPANT;PARTSTAT=ACCEPTED;RSVP=TRUE;CN="डॉ 
 ोपाल नारायन श्रीवास्तव":http
 ://openbooksonline.com/profile/GOPALNARAINSRIVASTAVA
END:VEVENT
END:VCALENDAR
